BEGIN:VCALENDAR
VERSION:2.0
PRODID:-//Kunsthalle Arnstadt - ECPv6.15.20//NONSGML v1.0//EN
CALSCALE:GREGORIAN
METHOD:PUBLISH
X-WR-CALNAME:Kunsthalle Arnstadt
X-ORIGINAL-URL:https://www.kunsthalle-arnstadt.de
X-WR-CALDESC:Veranstaltungen für Kunsthalle Arnstadt
REFRESH-INTERVAL;VALUE=DURATION:PT1H
X-Robots-Tag:noindex
X-PUBLISHED-TTL:PT1H
BEGIN:VTIMEZONE
TZID:Europe/Berlin
BEGIN:DAYLIGHT
TZOFFSETFROM:+0100
TZOFFSETTO:+0200
TZNAME:CEST
DTSTART:20250330T010000
END:DAYLIGHT
BEGIN:STANDARD
TZOFFSETFROM:+0200
TZOFFSETTO:+0100
TZNAME:CET
DTSTART:20251026T010000
END:STANDARD
BEGIN:DAYLIGHT
TZOFFSETFROM:+0100
TZOFFSETTO:+0200
TZNAME:CEST
DTSTART:20260329T010000
END:DAYLIGHT
BEGIN:STANDARD
TZOFFSETFROM:+0200
TZOFFSETTO:+0100
TZNAME:CET
DTSTART:20261025T010000
END:STANDARD
BEGIN:DAYLIGHT
TZOFFSETFROM:+0100
TZOFFSETTO:+0200
TZNAME:CEST
DTSTART:20270328T010000
END:DAYLIGHT
BEGIN:STANDARD
TZOFFSETFROM:+0200
TZOFFSETTO:+0100
TZNAME:CET
DTSTART:20271031T010000
END:STANDARD
END:VTIMEZONE
BEGIN:VEVENT
DTSTART;TZID=Europe/Berlin:20260426T150000
DTEND;TZID=Europe/Berlin:20260426T180000
DTSTAMP:20260426T012447
CREATED:20260422T134000Z
LAST-MODIFIED:20260422T134333Z
UID:3620-1777215600-1777226400@www.kunsthalle-arnstadt.de
SUMMARY:Malkurs "Botanische Malerei"
DESCRIPTION:Die erfahrenen Kunstpädagogin und Künstlerin Elena Timtschenko führt in die Teilnehmenden in die Maltechnik ein und erklärt Schritt für Schritt die Bildfindung. Der Kurs ist geeignet für Anfänger und Fortgeschrittene. \nGebühr: 30 €\, ermäßigt: 25 € für 3 Stunden \n  \nteilen teilen teilen teilen 
URL:https://www.kunsthalle-arnstadt.de/event/malkurs-botanische-malerei-2/
CATEGORIES:Malkurs,Workshop/Werkstatt für Jugendliche
ATTACH;FMTTYPE=image/jpeg:https://www.kunsthalle-arnstadt.de/wp-content/uploads/2026/04/Kopie-scaled.jpg
END:VEVENT
END:VCALENDAR