BEGIN:VCALENDAR
VERSION:2.0
PRODID:-//Kunsthalle Arnstadt - ECPv6.15.20//NONSGML v1.0//EN
CALSCALE:GREGORIAN
METHOD:PUBLISH
X-WR-CALNAME:Kunsthalle Arnstadt
X-ORIGINAL-URL:https://www.kunsthalle-arnstadt.de
X-WR-CALDESC:Veranstaltungen für Kunsthalle Arnstadt
REFRESH-INTERVAL;VALUE=DURATION:PT1H
X-Robots-Tag:noindex
X-PUBLISHED-TTL:PT1H
BEGIN:VTIMEZONE
TZID:Europe/Berlin
BEGIN:DAYLIGHT
TZOFFSETFROM:+0100
TZOFFSETTO:+0200
TZNAME:CEST
DTSTART:20210328T010000
END:DAYLIGHT
BEGIN:STANDARD
TZOFFSETFROM:+0200
TZOFFSETTO:+0100
TZNAME:CET
DTSTART:20211031T010000
END:STANDARD
BEGIN:DAYLIGHT
TZOFFSETFROM:+0100
TZOFFSETTO:+0200
TZNAME:CEST
DTSTART:20220327T010000
END:DAYLIGHT
BEGIN:STANDARD
TZOFFSETFROM:+0200
TZOFFSETTO:+0100
TZNAME:CET
DTSTART:20221030T010000
END:STANDARD
BEGIN:DAYLIGHT
TZOFFSETFROM:+0100
TZOFFSETTO:+0200
TZNAME:CEST
DTSTART:20230326T010000
END:DAYLIGHT
BEGIN:STANDARD
TZOFFSETFROM:+0200
TZOFFSETTO:+0100
TZNAME:CET
DTSTART:20231029T010000
END:STANDARD
BEGIN:DAYLIGHT
TZOFFSETFROM:+0100
TZOFFSETTO:+0200
TZNAME:CEST
DTSTART:20240331T010000
END:DAYLIGHT
BEGIN:STANDARD
TZOFFSETFROM:+0200
TZOFFSETTO:+0100
TZNAME:CET
DTSTART:20241027T010000
END:STANDARD
END:VTIMEZONE
BEGIN:VEVENT
DTSTART;VALUE=DATE:20221119
DTEND;VALUE=DATE:20230102
DTSTAMP:20260420T162326
CREATED:20220427T094328Z
LAST-MODIFIED:20220427T094348Z
UID:1797-1668816000-1672617599@www.kunsthalle-arnstadt.de
SUMMARY:Salon 2022
DESCRIPTION:Vernissage am 19.11.2022\, 20 Uhr \nteilen teilen teilen teilen 
URL:https://www.kunsthalle-arnstadt.de/event/salon-2022/
LOCATION:Kunsthalle Arnstadt\, Angelhäuser Straße 1\, Arnstadt\, Deutschland
CATEGORIES:Ausstellung
END:VEVENT
BEGIN:VEVENT
DTSTART;TZID=Europe/Berlin:20221120T150000
DTEND;TZID=Europe/Berlin:20221120T170000
DTSTAMP:20260420T162326
CREATED:20221103T163551Z
LAST-MODIFIED:20221103T163552Z
UID:2062-1668956400-1668963600@www.kunsthalle-arnstadt.de
SUMMARY:After Work Workshop "Aquarellmalerei"
DESCRIPTION:Leitung: Elena Timtschenko \n\n\n\n\n\nDie erfahrene Kunstpädagogin (Künstlerin) vermittelt verschiedene Techniken der Aquarellmalerei.     „Die Farben fließen lassen\, spannende Farbkombinationen kreieren\, frei und kreativ sein\, ist das Ziel dieses Workshops. Es müssen keine Vorkenntnisse vorhanden sein\, nur Offenheit und Spaß am Experimentieren. \n\n\n\nAnmeldungen ab sofort möglich! \n\n\n\n\n\n\n\n\n\n\nteilen teilen teilen teilen 
URL:https://www.kunsthalle-arnstadt.de/event/after-work-workshop-aquarellmalerei/
ATTACH;FMTTYPE=image/jpeg:https://www.kunsthalle-arnstadt.de/wp-content/uploads/2022/11/5.-o.T.-AquareI-Salz-2020-41x56-cm-scaled.jpg
END:VEVENT
END:VCALENDAR