BEGIN:VCALENDAR
VERSION:2.0
PRODID:-//Kunsthalle Arnstadt - ECPv6.15.20//NONSGML v1.0//EN
CALSCALE:GREGORIAN
METHOD:PUBLISH
X-ORIGINAL-URL:https://www.kunsthalle-arnstadt.de
X-WR-CALDESC:Veranstaltungen für Kunsthalle Arnstadt
REFRESH-INTERVAL;VALUE=DURATION:PT1H
X-Robots-Tag:noindex
X-PUBLISHED-TTL:PT1H
BEGIN:VTIMEZONE
TZID:Europe/Berlin
BEGIN:DAYLIGHT
TZOFFSETFROM:+0100
TZOFFSETTO:+0200
TZNAME:CEST
DTSTART:20210328T010000
END:DAYLIGHT
BEGIN:STANDARD
TZOFFSETFROM:+0200
TZOFFSETTO:+0100
TZNAME:CET
DTSTART:20211031T010000
END:STANDARD
BEGIN:DAYLIGHT
TZOFFSETFROM:+0100
TZOFFSETTO:+0200
TZNAME:CEST
DTSTART:20220327T010000
END:DAYLIGHT
BEGIN:STANDARD
TZOFFSETFROM:+0200
TZOFFSETTO:+0100
TZNAME:CET
DTSTART:20221030T010000
END:STANDARD
BEGIN:DAYLIGHT
TZOFFSETFROM:+0100
TZOFFSETTO:+0200
TZNAME:CEST
DTSTART:20230326T010000
END:DAYLIGHT
BEGIN:STANDARD
TZOFFSETFROM:+0200
TZOFFSETTO:+0100
TZNAME:CET
DTSTART:20231029T010000
END:STANDARD
END:VTIMEZONE
BEGIN:VEVENT
DTSTART;TZID=Europe/Berlin:20220911T000000
DTEND;TZID=Europe/Berlin:20221113T235959
DTSTAMP:20260420T151550
CREATED:20220426T185634Z
LAST-MODIFIED:20220922T143117Z
UID:1792-1662854400-1668383999@www.kunsthalle-arnstadt.de
SUMMARY:Kunst-Aus-Tausch 2022
DESCRIPTION:Gemeinschaftsprojekt mit dem Schloßmuseum Arnstadt > 2 Ausstellungsorte mit 10 Künstler:innen \nUnsere neue Ausstellung mit Arbeiten von 7 Künstler/innen ist seit 11. September geöffnet!! Alle haben sich der Aufgabe gestellt\, zu ausgesuchten Depotstücken des Schlossmuseums\, eine künstlerische Position zu finden. Zu sehen sind neben Bildern und Fotografien\, auch Porzellangefäße und bemalte Wandfliesen sowie in Videofilm.\nDie Ausstellung ist von Dienstag bis Freitag von 14 -18 Uhr und am Sonntag von 15 – 18 Uhr geöffnet.\nDer 2. Teil der Ausstellung mit Arbeiten von 3 Künstlerinnen ist innerhalb der Dauerausstellung im Schloßmuseum zu sehen. \nteilen teilen teilen teilen 
URL:https://www.kunsthalle-arnstadt.de/event/kunst-aus-tausch-2022/
LOCATION:Kunsthalle Arnstadt\, Angelhäuser Straße 1\, Arnstadt\, Deutschland
CATEGORIES:Ausstellung
ATTACH;FMTTYPE=image/jpeg:https://www.kunsthalle-arnstadt.de/wp-content/uploads/2022/04/kunst-aus-tausch.jpg
END:VEVENT
END:VCALENDAR